BEGIN:VCALENDAR
VERSION:2.0
PRODID:-//Cochrans Ski Area - ECPv5.0.0.2//NONSGML v1.0//EN
CALSCALE:GREGORIAN
METHOD:PUBLISH
X-WR-CALNAME:Cochrans Ski Area
X-ORIGINAL-URL:https://cochranskiarea.com
X-WR-CALDESC:Events for Cochrans Ski Area
BEGIN:VTIMEZONE
TZID:America/New_York
BEGIN:DAYLIGHT
TZOFFSETFROM:-0500
TZOFFSETTO:-0400
TZNAME:EDT
DTSTART:20180311T070000
END:DAYLIGHT
BEGIN:STANDARD
TZOFFSETFROM:-0400
TZOFFSETTO:-0500
TZNAME:EST
DTSTART:20181104T060000
END:STANDARD
END:VTIMEZONE
BEGIN:VEVENT
DTSTART;TZID=America/New_York:20180409T183000
DTEND;TZID=America/New_York:20180409T210000
DTSTAMP:20260425T103104
CREATED:20180406T002603Z
LAST-MODIFIED:20180406T003217Z
UID:1093-1523298600-1523307600@cochranskiarea.com
SUMMARY:Richmond Mountain Trails Kickoff Party
DESCRIPTION:Come help get the wheels rolling at the Richmond Mtn Trails Kickoff Party at Hatchet this Monday at 6:30. \n
URL:https://cochranskiarea.com/event/richmond-mountain-trails-kickoff-party/
LOCATION:Hatchet
ATTACH;FMTTYPE=image/png:https://cochranskiarea.com/wp-content/uploads/2018/04/Screen-Shot-2018-04-05-at-8.10.41-PM.png
END:VEVENT
END:VCALENDAR