BEGIN:VCALENDAR
VERSION:2.0
PRODID:-//Cochrans Ski Area - ECPv5.0.0.2//NONSGML v1.0//EN
CALSCALE:GREGORIAN
METHOD:PUBLISH
X-WR-CALNAME:Cochrans Ski Area
X-ORIGINAL-URL:https://cochranskiarea.com
X-WR-CALDESC:Events for Cochrans Ski Area
BEGIN:VTIMEZONE
TZID:America/New_York
BEGIN:DAYLIGHT
TZOFFSETFROM:-0500
TZOFFSETTO:-0400
TZNAME:EDT
DTSTART:20190310T070000
END:DAYLIGHT
BEGIN:STANDARD
TZOFFSETFROM:-0400
TZOFFSETTO:-0500
TZNAME:EST
DTSTART:20191103T060000
END:STANDARD
END:VTIMEZONE
BEGIN:VEVENT
DTSTART;TZID=America/New_York:20190308T150000
DTEND;TZID=America/New_York:20190308T200000
DTSTAMP:20260424T215015
CREATED:20190208T213108Z
LAST-MODIFIED:20190319T063733Z
UID:1538-1552057200-1552075200@cochranskiarea.com
SUMMARY:Friday Night Lights
DESCRIPTION:
URL:https://cochranskiarea.com/event/friday-night-lights-13/
ATTACH;FMTTYPE=image/jpeg:https://cochranskiarea.com/wp-content/uploads/2019/02/Lights7.jpg
END:VEVENT
END:VCALENDAR